BEGIN:VCALENDAR
VERSION:2.0
PRODID:-//Ev. Kirchengemeinde Wickrathberg - ECPv4.9.13//NONSGML v1.0//EN
CALSCALE:GREGORIAN
METHOD:PUBLISH
X-WR-CALNAME:Ev. Kirchengemeinde Wickrathberg
X-ORIGINAL-URL:https://www.kirche-wickrathberg.de
X-WR-CALDESC:Veranstaltungen im Ev. Kirchengemeinde Wickrathberg
BEGIN:VTIMEZONE
TZID:Europe/Berlin
BEGIN:DAYLIGHT
TZOFFSETFROM:+0100
TZOFFSETTO:+0200
TZNAME:CEST
DTSTART:20240331T010000
END:DAYLIGHT
BEGIN:STANDARD
TZOFFSETFROM:+0200
TZOFFSETTO:+0100
TZNAME:CET
DTSTART:20241027T010000
END:STANDARD
END:VTIMEZONE
BEGIN:VEVENT
DTSTART;TZID=Europe/Berlin:20240227T180000
DTEND;TZID=Europe/Berlin:20240227T180000
DTSTAMP:20260419T132818
CREATED:20231124T124815Z
LAST-MODIFIED:20241127T163917Z
UID:8556-1709056800-1709056800@www.kirche-wickrathberg.de
SUMMARY:Ökumenischer Gottesdienst mit Pfarrerin Gommel-Packbier und Gemeindereferentin Schmidt - St. Antonius Wickrath
DESCRIPTION:Ökumenischer Gottesdienst\nanlässlich der Zerstörung Wickraths im 2. Weltkrieg \n
URL:https://www.kirche-wickrathberg.de/event/oekumenischer-gottesdienst-mit-pfarrerin-gommel-packbier-und-frau-brigite-schmidt-st-antonius-wickrath/2024-02-27/
LOCATION:Kath. Kirche St. Antonius Wickrath\, Wickrather Markt\, Mönchengladbach\, 41189
CATEGORIES:Allgemein,Gottesdienste
END:VEVENT
END:VCALENDAR