BEGIN:VCALENDAR
VERSION:2.0
PRODID:-//Ev. Kirchengemeinde Wickrathberg - ECPv4.9.13//NONSGML v1.0//EN
CALSCALE:GREGORIAN
METHOD:PUBLISH
X-WR-CALNAME:Ev. Kirchengemeinde Wickrathberg
X-ORIGINAL-URL:https://www.kirche-wickrathberg.de
X-WR-CALDESC:Veranstaltungen im Ev. Kirchengemeinde Wickrathberg
BEGIN:VTIMEZONE
TZID:Europe/Berlin
BEGIN:DAYLIGHT
TZOFFSETFROM:+0100
TZOFFSETTO:+0200
TZNAME:CEST
DTSTART:20240331T010000
END:DAYLIGHT
BEGIN:STANDARD
TZOFFSETFROM:+0200
TZOFFSETTO:+0100
TZNAME:CET
DTSTART:20241027T010000
END:STANDARD
END:VTIMEZONE
BEGIN:VEVENT
DTSTART;TZID=Europe/Berlin:20240225T103000
DTEND;TZID=Europe/Berlin:20240225T103000
DTSTAMP:20260419T163638
CREATED:20231124T122950Z
LAST-MODIFIED:20231124T122950Z
UID:8551-1708857000-1708857000@www.kirche-wickrathberg.de
SUMMARY:Gottesdienst zum Glockenfest mit Pfarrerin Gommel-Packbier - Kirche Wickrathberg
DESCRIPTION:Gottesdienst zum Glockenfest\nMit einem festlichen Gottesdienst und anschließendem Empfang im Gemeindehaus wollen wir uns bei allen bedanken\,\ndie uns so unermüdlich unterstützt haben. Unsere schöne Kirche\, das „Kleinod am Niederrhein“\, wird dann fröhlich erklingen!\nDazu laden wir Sie und Euch herzlich ein. \n
URL:https://www.kirche-wickrathberg.de/event/gottesdienst-zum-glockenfest-mit-pfarrerin-gommel-packbier-kirche-wickrathberg/
LOCATION:Kirchgarten Wickrathberg
CATEGORIES:Allgemein,Gottesdienste
END:VEVENT
END:VCALENDAR