BEGIN:VCALENDAR
VERSION:2.0
PRODID:-//Ev. Kirchengemeinde Wickrathberg - ECPv4.9.13//NONSGML v1.0//EN
CALSCALE:GREGORIAN
METHOD:PUBLISH
X-WR-CALNAME:Ev. Kirchengemeinde Wickrathberg
X-ORIGINAL-URL:https://www.kirche-wickrathberg.de
X-WR-CALDESC:Veranstaltungen im Ev. Kirchengemeinde Wickrathberg
BEGIN:VTIMEZONE
TZID:Europe/Berlin
BEGIN:DAYLIGHT
TZOFFSETFROM:+0100
TZOFFSETTO:+0200
TZNAME:CEST
DTSTART:20240331T010000
END:DAYLIGHT
BEGIN:STANDARD
TZOFFSETFROM:+0200
TZOFFSETTO:+0100
TZNAME:CET
DTSTART:20241027T010000
END:STANDARD
END:VTIMEZONE
BEGIN:VEVENT
DTSTART;TZID=Europe/Berlin:20240202T183000
DTEND;TZID=Europe/Berlin:20240202T183000
DTSTAMP:20260423T010640
CREATED:20211119T133826Z
LAST-MODIFIED:20241127T161156Z
UID:8546-1706898600-1706898600@www.kirche-wickrathberg.de
SUMMARY:Taschenlampengottesdienst mit Diakonin Erke - Gemeindezentrum Wickrath
DESCRIPTION:Taschenlampengottesdienst\nfür Familien und weitere Interessierte. Bitte bringen Sie eine Taschenlampe mit! Wir freuen uns auf Euch! \nBirgit Erke und Team \n
URL:https://www.kirche-wickrathberg.de/event/taschenlampengottesdienst-mit-diakonin-erke-gemeindezentrum-wickrath-2024-02-02/2024-02-02/
LOCATION:Gemeindezentrum Wickrath\, Denhardstraße 21\, Mönchengladbach\, 41189
CATEGORIES:Allgemein,Gottesdienste
END:VEVENT
END:VCALENDAR