BEGIN:VCALENDAR
VERSION:2.0
PRODID:-//Ev. Kirchengemeinde Wickrathberg - ECPv4.9.13//NONSGML v1.0//EN
CALSCALE:GREGORIAN
METHOD:PUBLISH
X-WR-CALNAME:Ev. Kirchengemeinde Wickrathberg
X-ORIGINAL-URL:https://www.kirche-wickrathberg.de
X-WR-CALDESC:Veranstaltungen im Ev. Kirchengemeinde Wickrathberg
BEGIN:VTIMEZONE
TZID:Europe/Berlin
BEGIN:DAYLIGHT
TZOFFSETFROM:+0100
TZOFFSETTO:+0200
TZNAME:CEST
DTSTART:20240331T010000
END:DAYLIGHT
BEGIN:STANDARD
TZOFFSETFROM:+0200
TZOFFSETTO:+0100
TZNAME:CET
DTSTART:20241027T010000
END:STANDARD
END:VTIMEZONE
BEGIN:VEVENT
DTSTART;TZID=Europe/Berlin:20240128T140000
DTEND;TZID=Europe/Berlin:20240128T140000
DTSTAMP:20260423T100144
CREATED:20190701T185750Z
LAST-MODIFIED:20250908T091818Z
UID:2897-1706450400-1706450400@www.kirche-wickrathberg.de
SUMMARY:Krabbelgottesdienst mit Pfarrerin Gommel-Packbier - Gemeindezentrum Wickrath
DESCRIPTION:Krabbelgottesdienst\nfür Kinder von 0-6 Jahren und deren Geschwister\, Eltern und Freunde \n
URL:https://www.kirche-wickrathberg.de/event/krabbelgottesdienst-2/2024-01-28/
LOCATION:Gemeindezentrum Wickrath\, Denhardstraße 21\, Mönchengladbach\, 41189
CATEGORIES:Allgemein,Gottesdienste,Kinder & Jugend
END:VEVENT
END:VCALENDAR