BEGIN:VCALENDAR
VERSION:2.0
PRODID:-//Ev. Kirchengemeinde Wickrathberg - ECPv4.9.13//NONSGML v1.0//EN
CALSCALE:GREGORIAN
METHOD:PUBLISH
X-WR-CALNAME:Ev. Kirchengemeinde Wickrathberg
X-ORIGINAL-URL:https://www.kirche-wickrathberg.de
X-WR-CALDESC:Veranstaltungen im Ev. Kirchengemeinde Wickrathberg
BEGIN:VTIMEZONE
TZID:Europe/Berlin
BEGIN:DAYLIGHT
TZOFFSETFROM:+0100
TZOFFSETTO:+0200
TZNAME:CEST
DTSTART:20190331T010000
END:DAYLIGHT
BEGIN:STANDARD
TZOFFSETFROM:+0200
TZOFFSETTO:+0100
TZNAME:CET
DTSTART:20191027T010000
END:STANDARD
END:VTIMEZONE
BEGIN:VEVENT
DTSTART;TZID=Europe/Berlin:20190414T103000
DTEND;TZID=Europe/Berlin:20190414T103000
DTSTAMP:20260419T163352
CREATED:20190217T085314Z
LAST-MODIFIED:20191103T114441Z
UID:1851-1555237800-1555237800@www.kirche-wickrathberg.de
SUMMARY:Gottesdienst mit Gastprediger Tervooren - Kirche Wickrathberg
DESCRIPTION:
URL:https://www.kirche-wickrathberg.de/event/gottesdienst-mit-gastprediger-tervooren-2019-04-14/2019-04-14/
LOCATION:Kirche und Gemeindehaus Wickrathberg\, Berger Dorfstraße 55\, Mönchengladbach\, 41189
CATEGORIES:Gottesdienste
END:VEVENT
END:VCALENDAR