BEGIN:VCALENDAR
VERSION:2.0
PRODID:-//Ev. Kirchengemeinde Wickrathberg - ECPv4.9.13//NONSGML v1.0//EN
CALSCALE:GREGORIAN
METHOD:PUBLISH
X-WR-CALNAME:Ev. Kirchengemeinde Wickrathberg
X-ORIGINAL-URL:https://www.kirche-wickrathberg.de
X-WR-CALDESC:Veranstaltungen im Ev. Kirchengemeinde Wickrathberg
BEGIN:VTIMEZONE
TZID:Europe/Berlin
BEGIN:DAYLIGHT
TZOFFSETFROM:+0100
TZOFFSETTO:+0200
TZNAME:CEST
DTSTART:20190331T010000
END:DAYLIGHT
BEGIN:STANDARD
TZOFFSETFROM:+0200
TZOFFSETTO:+0100
TZNAME:CET
DTSTART:20191027T010000
END:STANDARD
END:VTIMEZONE
BEGIN:VEVENT
DTSTART;TZID=Europe/Berlin:20190409T140000
DTEND;TZID=Europe/Berlin:20190409T140000
DTSTAMP:20260419T234423
CREATED:20190213T080746Z
LAST-MODIFIED:20190319T142808Z
UID:1708-1554818400-1554818400@www.kirche-wickrathberg.de
SUMMARY:Männerrunde!? - Fahrradtour zum Haus Hohenbusch
DESCRIPTION:Treffpunkt Gemeindehaus Wickrathberg.\nRückmeldungen und Absprachen wie immer über die bekannten Wege oder über Jürgen Caumanns (02166/958496)\, Rudolf Küster (02166/59972) \n
URL:https://www.kirche-wickrathberg.de/event/maennerrunde-fahrradtour-zum-haus-hohenbusch/
LOCATION:Gemeindehaus Wickrathberg\, Am Pastorat\, Mönchengladbach\, 41189\, Deutschland
CATEGORIES:Gemeindegruppen
END:VEVENT
END:VCALENDAR