BEGIN:VCALENDAR
VERSION:2.0
PRODID:-//Ev. Kirchengemeinde Wickrathberg - ECPv4.9.13//NONSGML v1.0//EN
CALSCALE:GREGORIAN
METHOD:PUBLISH
X-WR-CALNAME:Ev. Kirchengemeinde Wickrathberg
X-ORIGINAL-URL:https://www.kirche-wickrathberg.de
X-WR-CALDESC:Veranstaltungen im Ev. Kirchengemeinde Wickrathberg
BEGIN:VTIMEZONE
TZID:Europe/Berlin
BEGIN:DAYLIGHT
TZOFFSETFROM:+0100
TZOFFSETTO:+0200
TZNAME:CEST
DTSTART:20190331T010000
END:DAYLIGHT
BEGIN:STANDARD
TZOFFSETFROM:+0200
TZOFFSETTO:+0100
TZNAME:CET
DTSTART:20191027T010000
END:STANDARD
END:VTIMEZONE
BEGIN:VEVENT
DTSTART;TZID=Europe/Berlin:20190405T150000
DTEND;TZID=Europe/Berlin:20190405T180000
DTSTAMP:20260420T054431
CREATED:20190328T105022Z
LAST-MODIFIED:20190401T095650Z
UID:2451-1554476400-1554487200@www.kirche-wickrathberg.de
SUMMARY:Osterbacken im Gemeindeladen
DESCRIPTION:Plätzchenbackkurs für Kinder von 7-9 Jahren\n \nWir backen unsere eigenen Osterplätzchen\, färben Eier und werden zum Abschluss Osternester gestalten\, die ihr mit nach Hause nehmen könnt. \nWas ihr mitbringen müsst: Eine Schürze oder ein altes Hemd von Papa (haben wir zur Not auch hier) und viel gute Laune! \nTermin: 05.04.2019\, 15.00 Uhr – 18.00 Uhr \nBitte meldet euch im Gemeindeladen unter 54976 an! \nUm einen Kostenbeitrag von 2\,00 € wird gebeten! \n  \n  \n
URL:https://www.kirche-wickrathberg.de/event/osterbacken-im-gemeindeladen/
LOCATION:Ökumenischer Gemeindeladen\, Quadtstraße 18\, Mönchengladbach\, 41189\, Deutschland
CATEGORIES:Allgemein,Kinder & Jugend
END:VEVENT
BEGIN:VEVENT
DTSTART;TZID=Europe/Berlin:20190405T160000
DTEND;TZID=Europe/Berlin:20190405T160000
DTSTAMP:20260420T054431
CREATED:20190301T144311Z
LAST-MODIFIED:20190319T144906Z
UID:2245-1554480000-1554480000@www.kirche-wickrathberg.de
SUMMARY:Musik im Quartier
DESCRIPTION: Musik im Quartier\nIm Rahmen der städtischen Konzertreihe „Musik im Quartier“ lädt der Ev. Kirchenchor Wickrathberg unter der Leitung von Jens Ebmeyer sehr herzlich zu einem kurzweiligen weltlichen und geistlichen Konzert ein. \nDer Eintritt ist frei! \n
URL:https://www.kirche-wickrathberg.de/event/musik-im-quartier/
LOCATION:Altenheim Rheindahlen\, Mühlenwallstr. 74\, Mönchengladbach\, 41179
CATEGORIES:Musik
END:VEVENT
END:VCALENDAR