BEGIN:VCALENDAR
VERSION:2.0
PRODID:-//Ev. Kirchengemeinde Wickrathberg - ECPv4.9.13//NONSGML v1.0//EN
CALSCALE:GREGORIAN
METHOD:PUBLISH
X-WR-CALNAME:Ev. Kirchengemeinde Wickrathberg
X-ORIGINAL-URL:https://www.kirche-wickrathberg.de
X-WR-CALDESC:Veranstaltungen im Ev. Kirchengemeinde Wickrathberg
BEGIN:VTIMEZONE
TZID:Europe/Berlin
BEGIN:DAYLIGHT
TZOFFSETFROM:+0100
TZOFFSETTO:+0200
TZNAME:CEST
DTSTART:20190331T010000
END:DAYLIGHT
BEGIN:STANDARD
TZOFFSETFROM:+0200
TZOFFSETTO:+0100
TZNAME:CET
DTSTART:20191027T010000
END:STANDARD
END:VTIMEZONE
BEGIN:VEVENT
DTSTART;TZID=Europe/Berlin:20190328T180000
DTEND;TZID=Europe/Berlin:20190328T180000
DTSTAMP:20260422T154526
CREATED:20190223T093027Z
LAST-MODIFIED:20190319T151444Z
UID:2061-1553796000-1553796000@www.kirche-wickrathberg.de
SUMMARY:Andacht zur Passionszeit
DESCRIPTION:Mal ehrlich … sind wir noch zu retten?!\nThema heute: In einer Welt voller Unwahrheit.\nNach der Andacht gibt es die Gelegenheit zu einem Gespräch bei einer Tasse Kaffee oder Tee. \nBegleiten Sie uns? Wir warten auf Sie! \n
URL:https://www.kirche-wickrathberg.de/event/andacht-zur-passionszeit-2/
LOCATION:Gemeindehaus Beckrath\, Beckrather Dorfstraße 84\, Mönchengladbach\, 41189\, Deutschland
CATEGORIES:Allgemein
END:VEVENT
END:VCALENDAR