BEGIN:VCALENDAR
VERSION:2.0
PRODID:-//Ev. Kirchengemeinde Wickrathberg - ECPv4.9.13//NONSGML v1.0//EN
CALSCALE:GREGORIAN
METHOD:PUBLISH
X-WR-CALNAME:Ev. Kirchengemeinde Wickrathberg
X-ORIGINAL-URL:https://www.kirche-wickrathberg.de
X-WR-CALDESC:Veranstaltungen im Ev. Kirchengemeinde Wickrathberg
BEGIN:VTIMEZONE
TZID:Europe/Berlin
BEGIN:DAYLIGHT
TZOFFSETFROM:+0100
TZOFFSETTO:+0200
TZNAME:CEST
DTSTART:20220327T010000
END:DAYLIGHT
BEGIN:STANDARD
TZOFFSETFROM:+0200
TZOFFSETTO:+0100
TZNAME:CET
DTSTART:20221030T010000
END:STANDARD
END:VTIMEZONE
BEGIN:VEVENT
DTSTART;TZID=Europe/Berlin:20221225T103000
DTEND;TZID=Europe/Berlin:20221225T103000
DTSTAMP:20260425T192636
CREATED:20221117T111712Z
LAST-MODIFIED:20221117T113312Z
UID:7729-1671964200-1671964200@www.kirche-wickrathberg.de
SUMMARY:Weihnachtsgottesdienst mit Pastor im Ehrenamt Tervooren - Kirche Wickrathberg
DESCRIPTION:Weihnachtsgottesdienst mit Abendmahl.\n
URL:https://www.kirche-wickrathberg.de/event/weihnachtsgottesdienst-mit-pastor-im-ehrenamt-tervooren-kirche-wickrathberg/
LOCATION:Kirche und Gemeindehaus Wickrathberg\, Berger Dorfstraße 55\, Mönchengladbach\, 41189
CATEGORIES:Allgemein,Gottesdienste
END:VEVENT
END:VCALENDAR