BEGIN:VCALENDAR
VERSION:2.0
PRODID:-//Ev. Kirchengemeinde Wickrathberg - ECPv4.9.13//NONSGML v1.0//EN
CALSCALE:GREGORIAN
METHOD:PUBLISH
X-WR-CALNAME:Ev. Kirchengemeinde Wickrathberg
X-ORIGINAL-URL:https://www.kirche-wickrathberg.de
X-WR-CALDESC:Veranstaltungen im Ev. Kirchengemeinde Wickrathberg
BEGIN:VTIMEZONE
TZID:Europe/Berlin
BEGIN:DAYLIGHT
TZOFFSETFROM:+0100
TZOFFSETTO:+0200
TZNAME:CEST
DTSTART:20260329T010000
END:DAYLIGHT
BEGIN:STANDARD
TZOFFSETFROM:+0200
TZOFFSETTO:+0100
TZNAME:CET
DTSTART:20261025T010000
END:STANDARD
END:VTIMEZONE
BEGIN:VEVENT
DTSTART;TZID=Europe/Berlin:20260525T103000
DTEND;TZID=Europe/Berlin:20260525T103000
DTSTAMP:20260425T101615
CREATED:20260305T133039Z
LAST-MODIFIED:20260305T133201Z
UID:10177-1779705000-1779705000@www.kirche-wickrathberg.de
SUMMARY:Pfingstmontag / Zentralgottesdienst der Region - Diakon Hein - Martin-Luther-Kirche Rheindahlen\, Südwall 32
DESCRIPTION:Gottesdienst\n
URL:https://www.kirche-wickrathberg.de/event/pfingstmontag-zentralgottesdienst-der-region-diakon-hein-martin-luther-kirche-rheindahlen-suedwall-32/
LOCATION:Martin-Luther-Kirche\, Südwall 32\, Rheindahlen
CATEGORIES:Allgemein,Gottesdienste
END:VEVENT
END:VCALENDAR