BEGIN:VCALENDAR
VERSION:2.0
PRODID:-//Ev. Kirchengemeinde Wickrathberg - ECPv4.9.13//NONSGML v1.0//EN
CALSCALE:GREGORIAN
METHOD:PUBLISH
X-WR-CALNAME:Ev. Kirchengemeinde Wickrathberg
X-ORIGINAL-URL:https://www.kirche-wickrathberg.de
X-WR-CALDESC:Veranstaltungen im Ev. Kirchengemeinde Wickrathberg
BEGIN:VTIMEZONE
TZID:Europe/Berlin
BEGIN:DAYLIGHT
TZOFFSETFROM:+0100
TZOFFSETTO:+0200
TZNAME:CEST
DTSTART:20250330T010000
END:DAYLIGHT
BEGIN:STANDARD
TZOFFSETFROM:+0200
TZOFFSETTO:+0100
TZNAME:CET
DTSTART:20251026T010000
END:STANDARD
END:VTIMEZONE
BEGIN:VEVENT
DTSTART;TZID=Europe/Berlin:20250226T180000
DTEND;TZID=Europe/Berlin:20250226T180000
DTSTAMP:20260421T230921
CREATED:20231124T124815Z
LAST-MODIFIED:20241127T164709Z
UID:9155-1740592800-1740592800@www.kirche-wickrathberg.de
SUMMARY:Ökumenischer Gottesdienst mit Pfarrerin Gommel-Packbier und ein Mitarbeiter von St. Antonius - Kirche St. Antonius Wickrath
DESCRIPTION:Ökumenischer Gottesdienst\nanlässlich der Zerstörung Wickraths im 2. Weltkrieg \n
URL:https://www.kirche-wickrathberg.de/event/oekumenischer-gottesdienst-mit-pfarrerin-gommel-packbier-und-ein-mitarbeiter-von-st-antonius-kirche-st-antonius-wickrath/
LOCATION:Kath. Kirche St. Antonius Wickrath\, Wickrather Markt\, Mönchengladbach\, 41189
CATEGORIES:Allgemein,Gottesdienste
END:VEVENT
END:VCALENDAR