BEGIN:VCALENDAR
VERSION:2.0
PRODID:-//Ev. Kirchengemeinde Wickrathberg - ECPv4.9.13//NONSGML v1.0//EN
CALSCALE:GREGORIAN
METHOD:PUBLISH
X-WR-CALNAME:Ev. Kirchengemeinde Wickrathberg
X-ORIGINAL-URL:https://www.kirche-wickrathberg.de
X-WR-CALDESC:Veranstaltungen im Ev. Kirchengemeinde Wickrathberg
BEGIN:VTIMEZONE
TZID:Europe/Berlin
BEGIN:DAYLIGHT
TZOFFSETFROM:+0100
TZOFFSETTO:+0200
TZNAME:CEST
DTSTART:20230326T010000
END:DAYLIGHT
BEGIN:STANDARD
TZOFFSETFROM:+0200
TZOFFSETTO:+0100
TZNAME:CET
DTSTART:20231029T010000
END:STANDARD
END:VTIMEZONE
BEGIN:VEVENT
DTSTART;TZID=Europe/Berlin:20231217T170000
DTEND;TZID=Europe/Berlin:20231217T170000
DTSTAMP:20260421T201442
CREATED:20231130T112448Z
LAST-MODIFIED:20231130T112448Z
UID:8563-1702832400-1702832400@www.kirche-wickrathberg.de
SUMMARY:Musik bei Kerzenschein
DESCRIPTION:Musik bei Kerzenschein\n \nIn der stimmungsvoll beleuchteten Wickrathberger Kirche erwartet Sie ein Konzert mit festlicher Orgelmusik zum Advent und zu Weihnachten. Auf den Programm stehen Werke von G. F. Händel\, J. S. Bach\, W. A. Mozart u.a. \nOrgel: Jens Ebmeyer \nDer Eintritt ist frei – um eine Spende wird gebeten. \n
URL:https://www.kirche-wickrathberg.de/event/musik-bei-kerzenschein-3/
LOCATION:Kirche Wickrathberg\, Wickrathberg
CATEGORIES:Allgemein,Musik
END:VEVENT
END:VCALENDAR