BEGIN:VCALENDAR
VERSION:2.0
PRODID:-//Ev. Kirchengemeinde Wickrathberg - ECPv4.9.13//NONSGML v1.0//EN
CALSCALE:GREGORIAN
METHOD:PUBLISH
X-WR-CALNAME:Ev. Kirchengemeinde Wickrathberg
X-ORIGINAL-URL:https://www.kirche-wickrathberg.de
X-WR-CALDESC:Veranstaltungen im Ev. Kirchengemeinde Wickrathberg
BEGIN:VTIMEZONE
TZID:Europe/Berlin
BEGIN:DAYLIGHT
TZOFFSETFROM:+0100
TZOFFSETTO:+0200
TZNAME:CEST
DTSTART:20260329T010000
END:DAYLIGHT
BEGIN:STANDARD
TZOFFSETFROM:+0200
TZOFFSETTO:+0100
TZNAME:CET
DTSTART:20261025T010000
END:STANDARD
END:VTIMEZONE
BEGIN:VEVENT
DTSTART;TZID=Europe/Berlin:20260424T183000
DTEND;TZID=Europe/Berlin:20260424T183000
DTSTAMP:20260425T192131
CREATED:20260305T130256Z
LAST-MODIFIED:20260305T130256Z
UID:10170-1777055400-1777055400@www.kirche-wickrathberg.de
SUMMARY:Literaturgottesdienst mit einem Team - Gemeindezentrum Wickrath
DESCRIPTION:Literaturgottesdienst\nRaynor und Moth sind wohnungslos\, alles\, was sie noch besitzen\, passt in einen Rucksack. Mit einem kleinen Zelt machen sie sich auf\, den gesamten South West Coast Path\, Englands bekanntesten Küstenweg\, zu wandern. Sie begegnen Vorurteilen und Ablehnung\, doch zugleich entdecken sie das Glück ihrer Liebe und lernen\, Kraft aus der Natur zu schöpfen. Allen Widrigkeiten zum Trotz öffnet ihr mehrmonatiger Trip die Tür zu einer neuen Zukunft. \n„Ein Reisebericht voller Menschlichkeit und Herzenswärme“ (Deutschlandfunk) \nWir laden Sie herzlich zu diesem Literaturgottesdienst ein und freuen uns auf Ihr Kommen. \n
URL:https://www.kirche-wickrathberg.de/event/literaturgottesdienst-mit-einem-team-gemeindezentrum-wickrath-2/
LOCATION:Gemeindezentrum Wickrath\, Denhardstraße 21\, Mönchengladbach\, 41189
CATEGORIES:Allgemein,Gottesdienste
END:VEVENT
END:VCALENDAR