BEGIN:VCALENDAR
VERSION:2.0
PRODID:-//Ev. Kirchengemeinde Wickrathberg - ECPv4.9.13//NONSGML v1.0//EN
CALSCALE:GREGORIAN
METHOD:PUBLISH
X-WR-CALNAME:Ev. Kirchengemeinde Wickrathberg
X-ORIGINAL-URL:https://www.kirche-wickrathberg.de
X-WR-CALDESC:Veranstaltungen im Ev. Kirchengemeinde Wickrathberg
BEGIN:VTIMEZONE
TZID:Europe/Berlin
BEGIN:DAYLIGHT
TZOFFSETFROM:+0100
TZOFFSETTO:+0200
TZNAME:CEST
DTSTART:20190331T010000
END:DAYLIGHT
BEGIN:STANDARD
TZOFFSETFROM:+0200
TZOFFSETTO:+0100
TZNAME:CET
DTSTART:20191027T010000
END:STANDARD
END:VTIMEZONE
BEGIN:VEVENT
DTSTART;TZID=Europe/Berlin:20191102T190000
DTEND;TZID=Europe/Berlin:20191102T210000
DTSTAMP:20260419T203345
CREATED:20191011T071849Z
LAST-MODIFIED:20191011T071849Z
UID:3266-1572721200-1572728400@www.kirche-wickrathberg.de
SUMMARY:Konzert Frauenchor Grenzland
DESCRIPTION:Konzert Frauenchor Grenzland 1987\nBest-of-Programm \nAusführende: Frauenchor Grenzland\, Klavierbegleitung: Bert Schmitz\, Leitung: Gerd Faßbender \n
URL:https://www.kirche-wickrathberg.de/event/konzert-frauenchor-grenzland/
LOCATION:Gemeindezentrum Wickrath\, Denhardstraße 21\, Mönchengladbach\, 41189
CATEGORIES:Allgemein,Musik
END:VEVENT
END:VCALENDAR