BEGIN:VCALENDAR
VERSION:2.0
PRODID:-//Ev. Kirchengemeinde Wickrathberg - ECPv4.9.13//NONSGML v1.0//EN
CALSCALE:GREGORIAN
METHOD:PUBLISH
X-WR-CALNAME:Ev. Kirchengemeinde Wickrathberg
X-ORIGINAL-URL:https://www.kirche-wickrathberg.de
X-WR-CALDESC:Veranstaltungen im Ev. Kirchengemeinde Wickrathberg
BEGIN:VTIMEZONE
TZID:Europe/Berlin
BEGIN:DAYLIGHT
TZOFFSETFROM:+0100
TZOFFSETTO:+0200
TZNAME:CEST
DTSTART:20240331T010000
END:DAYLIGHT
BEGIN:STANDARD
TZOFFSETFROM:+0200
TZOFFSETTO:+0100
TZNAME:CET
DTSTART:20241027T010000
END:STANDARD
END:VTIMEZONE
BEGIN:VEVENT
DTSTART;TZID=Europe/Berlin:20240421T103000
DTEND;TZID=Europe/Berlin:20240421T103000
DTSTAMP:20260421T213229
CREATED:20240219T093900Z
LAST-MODIFIED:20240408T170909Z
UID:8670-1713695400-1713695400@www.kirche-wickrathberg.de
SUMMARY:Konfirmationsgottesdienst mit Diakonin Erke - Kirche Wickrathberg
DESCRIPTION:Konfirmation Wickrathberg mit Abendmahl\n
URL:https://www.kirche-wickrathberg.de/event/konfirmationsgottesdienst-mit-diakonin-erke-kirche-wickrathberg-4-2024-04-21/
LOCATION:Kirche Wickrathberg\, Wickrathberg
CATEGORIES:Allgemein,Gottesdienste
END:VEVENT
END:VCALENDAR