BEGIN:VCALENDAR
VERSION:2.0
PRODID:-//Ev. Kirchengemeinde Wickrathberg - ECPv4.9.13//NONSGML v1.0//EN
CALSCALE:GREGORIAN
METHOD:PUBLISH
X-WR-CALNAME:Ev. Kirchengemeinde Wickrathberg
X-ORIGINAL-URL:https://www.kirche-wickrathberg.de
X-WR-CALDESC:Veranstaltungen im Ev. Kirchengemeinde Wickrathberg
BEGIN:VTIMEZONE
TZID:Europe/Berlin
BEGIN:DAYLIGHT
TZOFFSETFROM:+0100
TZOFFSETTO:+0200
TZNAME:CEST
DTSTART:20230326T010000
END:DAYLIGHT
BEGIN:STANDARD
TZOFFSETFROM:+0200
TZOFFSETTO:+0100
TZNAME:CET
DTSTART:20231029T010000
END:STANDARD
END:VTIMEZONE
BEGIN:VEVENT
DTSTART;TZID=Europe/Berlin:20230827T140000
DTEND;TZID=Europe/Berlin:20230827T140000
DTSTAMP:20260422T002828
CREATED:20230522T111339Z
LAST-MODIFIED:20230522T111339Z
UID:8202-1693144800-1693144800@www.kirche-wickrathberg.de
SUMMARY:Kindergottesdienst nicht nur für Kinder mit Jugendleiterin Corinna Strunk mit Team - Gemeindezentrum Wickrath
DESCRIPTION:KIRCHE MIT KINDERN\nJesus Weg durch das Leben! \nGemeinsam singen\, bibliche Geschichten hören\, gemeinsam beten\, die Kindergruppen gestalten durch Anspiele den Gottesdienst\, zwischendurch gehen die Kinder getrennte Wege und spielen und basteln und die Eltern\, Großeltern und alle anderen Gäste können sich bei Kaffee und Kuchen über das Gehörte austauschen. \n
URL:https://www.kirche-wickrathberg.de/event/kindergottesdienst-nicht-nur-fuer-kinder-mit-jugendleiterin-corinna-strunk-mit-team-gemeindezentrum-wickrath/
LOCATION:Gemeindezentrum Wickrath\, Denhardstraße 21\, Mönchengladbach\, 41189
CATEGORIES:Allgemein,Gottesdienste,Kinder & Jugend
END:VEVENT
END:VCALENDAR