BEGIN:VCALENDAR
VERSION:2.0
PRODID:-//Ev. Kirchengemeinde Wickrathberg - ECPv4.9.13//NONSGML v1.0//EN
CALSCALE:GREGORIAN
METHOD:PUBLISH
X-WR-CALNAME:Ev. Kirchengemeinde Wickrathberg
X-ORIGINAL-URL:https://www.kirche-wickrathberg.de
X-WR-CALDESC:Veranstaltungen im Ev. Kirchengemeinde Wickrathberg
BEGIN:VTIMEZONE
TZID:Europe/Berlin
BEGIN:DAYLIGHT
TZOFFSETFROM:+0100
TZOFFSETTO:+0200
TZNAME:CEST
DTSTART:20210328T010000
END:DAYLIGHT
BEGIN:STANDARD
TZOFFSETFROM:+0200
TZOFFSETTO:+0100
TZNAME:CET
DTSTART:20211031T010000
END:STANDARD
END:VTIMEZONE
BEGIN:VEVENT
DTSTART;VALUE=DATE:20211009
DTEND;VALUE=DATE:20211016
DTSTAMP:20260419T152433
CREATED:20210916T092156Z
LAST-MODIFIED:20210916T092156Z
UID:6447-1633737600-1634342399@www.kirche-wickrathberg.de
SUMMARY:Kinderfreizeit
DESCRIPTION:Eine Woche mit Spiel\, Spaß und Spannung\nWir wollen in den Herbstferien endlich wieder wegfahren. Mit 50 Kindern und 13 Teamern geht es auf nach Bergneustadt in ein Landschulheim. Dort haben wir eine Turnhalle für schlechtes Wetter und ein tolles Aussengelände zum Spielen. Noch sind Plätze frei\, melde dich an: für 215\,- Euro bist du dabei\, wenn du zwischen 8 und 12 Jahre alt bist. \n  \n  \n  \n  \n  \n
URL:https://www.kirche-wickrathberg.de/event/kinderfreizeit/
CATEGORIES:Kinder & Jugend
END:VEVENT
END:VCALENDAR