BEGIN:VCALENDAR
VERSION:2.0
PRODID:-//Ev. Kirchengemeinde Wickrathberg - ECPv4.9.13//NONSGML v1.0//EN
CALSCALE:GREGORIAN
METHOD:PUBLISH
X-WR-CALNAME:Ev. Kirchengemeinde Wickrathberg
X-ORIGINAL-URL:https://www.kirche-wickrathberg.de
X-WR-CALDESC:Veranstaltungen im Ev. Kirchengemeinde Wickrathberg
BEGIN:VTIMEZONE
TZID:Europe/Berlin
BEGIN:DAYLIGHT
TZOFFSETFROM:+0100
TZOFFSETTO:+0200
TZNAME:CEST
DTSTART:20240331T010000
END:DAYLIGHT
BEGIN:STANDARD
TZOFFSETFROM:+0200
TZOFFSETTO:+0100
TZNAME:CET
DTSTART:20241027T010000
END:STANDARD
END:VTIMEZONE
BEGIN:VEVENT
DTSTART;TZID=Europe/Berlin:20241005T110000
DTEND;TZID=Europe/Berlin:20241005T133000
DTSTAMP:20260419T134928
CREATED:20240722T101032Z
LAST-MODIFIED:20240722T101032Z
UID:8924-1728126000-1728135000@www.kirche-wickrathberg.de
SUMMARY:KinderBibelActionSamstag
DESCRIPTION:Wir wollen uns von 11 bis 13:30 Uhr thematisch\, spielerisch und mit Bastelangeboten mit dem Gleichnis der kostbaren Perle beschäftigen. Für einen Mittagssnack ist gesorgt. Bei kaltem Wetter Jacke nicht vergessen\, falls es uns auch nach draußen führt. Wir freuen uns auf einen ereignisreiche Zeit mit Euch Kindern im Alter von 6-12 Jahren. \nDiakonin Birgit Erke und das Jugendmitarbeiterteam \n
URL:https://www.kirche-wickrathberg.de/event/kinderbibelactionsamstag-8/
LOCATION:Gemeindehaus Wickrathberg\, Am Pastorat\, Mönchengladbach\, 41189\, Deutschland
CATEGORIES:Kinder & Jugend
END:VEVENT
END:VCALENDAR