BEGIN:VCALENDAR
VERSION:2.0
PRODID:-//Ev. Kirchengemeinde Wickrathberg - ECPv4.9.13//NONSGML v1.0//EN
CALSCALE:GREGORIAN
METHOD:PUBLISH
X-WR-CALNAME:Ev. Kirchengemeinde Wickrathberg
X-ORIGINAL-URL:https://www.kirche-wickrathberg.de
X-WR-CALDESC:Veranstaltungen im Ev. Kirchengemeinde Wickrathberg
BEGIN:VTIMEZONE
TZID:Europe/Berlin
BEGIN:DAYLIGHT
TZOFFSETFROM:+0100
TZOFFSETTO:+0200
TZNAME:CEST
DTSTART:20250330T010000
END:DAYLIGHT
BEGIN:STANDARD
TZOFFSETFROM:+0200
TZOFFSETTO:+0100
TZNAME:CET
DTSTART:20251026T010000
END:STANDARD
END:VTIMEZONE
BEGIN:VEVENT
DTSTART;TZID=Europe/Berlin:20250622T103000
DTEND;TZID=Europe/Berlin:20250622T103000
DTSTAMP:20260422T005236
CREATED:20210829T124501Z
LAST-MODIFIED:20210829T124501Z
UID:9458-1750588200-1750588200@www.kirche-wickrathberg.de
SUMMARY:Gottesdienst mit Pfarrer i. R. Rosocha - Kirche Wickrathberg
DESCRIPTION:Gottesdienst\n  \n
URL:https://www.kirche-wickrathberg.de/event/gottesdienst-mit-pfarrer-i-r-posocha-kirche-wickrathberg-2022-04-24/2025-06-22/
LOCATION:Kirche und Gemeindehaus Wickrathberg\, Berger Dorfstraße 55\, Mönchengladbach\, 41189
CATEGORIES:Allgemein,Gottesdienste
END:VEVENT
END:VCALENDAR