BEGIN:VCALENDAR
VERSION:2.0
PRODID:-//Ev. Kirchengemeinde Wickrathberg - ECPv4.9.13//NONSGML v1.0//EN
CALSCALE:GREGORIAN
METHOD:PUBLISH
X-WR-CALNAME:Ev. Kirchengemeinde Wickrathberg
X-ORIGINAL-URL:https://www.kirche-wickrathberg.de
X-WR-CALDESC:Veranstaltungen im Ev. Kirchengemeinde Wickrathberg
BEGIN:VTIMEZONE
TZID:Europe/Berlin
BEGIN:DAYLIGHT
TZOFFSETFROM:+0100
TZOFFSETTO:+0200
TZNAME:CEST
DTSTART:20210328T010000
END:DAYLIGHT
BEGIN:STANDARD
TZOFFSETFROM:+0200
TZOFFSETTO:+0100
TZNAME:CET
DTSTART:20211031T010000
END:STANDARD
END:VTIMEZONE
BEGIN:VEVENT
DTSTART;TZID=Europe/Berlin:20210808T103000
DTEND;TZID=Europe/Berlin:20210808T103000
DTSTAMP:20260422T065704
CREATED:20191107T102617Z
LAST-MODIFIED:20210710T101831Z
UID:6071-1628418600-1628418600@www.kirche-wickrathberg.de
SUMMARY:Gottesdienst mit Pastor im Ehrenamt Tervooren - Gemeindezentrum Wickrath
DESCRIPTION:Sommerkirche; Gottesdienst.\nBitte beachten: \n\nBitte tragen Sie in unseren Gottesdiensträumen eine Maske\, es sei denn\, der Gottesdienst findet draußen statt: Bei Inzidenzstufe 1 dürfen wir draußen ohne Maske zusammenkommen.\nDesinfektionsmittel steht am Eingang bereit.\nDie Sitzplätze sind im vorgegebenen Abstand eingeteilt.\nDer Gemeindegesang ist wieder erlaubt.\nIhre Kontaktdaten werden schriftlich festgehalten.\nBitte achten Sie auch beim „Kaffee danach“ auf die Hygieneregeln.\nKurzfristig können sich Änderungen ergeben.\nBitte schauen Sie daher am Tag vor dem Gottesdienst nochmal an dieser Stelle nach.\n\n
URL:https://www.kirche-wickrathberg.de/event/gottesdienst-mit-pastor-im-ehrenamt-tervooren-2021-08-08/
LOCATION:Gemeindezentrum Wickrath\, Denhardstraße 21\, Mönchengladbach\, 41189
CATEGORIES:Allgemein,Gottesdienste
END:VEVENT
END:VCALENDAR