BEGIN:VCALENDAR
VERSION:2.0
PRODID:-//Ev. Kirchengemeinde Wickrathberg - ECPv4.9.13//NONSGML v1.0//EN
CALSCALE:GREGORIAN
METHOD:PUBLISH
X-WR-CALNAME:Ev. Kirchengemeinde Wickrathberg
X-ORIGINAL-URL:https://www.kirche-wickrathberg.de
X-WR-CALDESC:Veranstaltungen im Ev. Kirchengemeinde Wickrathberg
BEGIN:VTIMEZONE
TZID:Europe/Berlin
BEGIN:DAYLIGHT
TZOFFSETFROM:+0100
TZOFFSETTO:+0200
TZNAME:CEST
DTSTART:20240331T010000
END:DAYLIGHT
BEGIN:STANDARD
TZOFFSETFROM:+0200
TZOFFSETTO:+0100
TZNAME:CET
DTSTART:20241027T010000
END:STANDARD
END:VTIMEZONE
BEGIN:VEVENT
DTSTART;TZID=Europe/Berlin:20241222T103000
DTEND;TZID=Europe/Berlin:20241222T103000
DTSTAMP:20260421T213526
CREATED:20220524T132954Z
LAST-MODIFIED:20241127T162135Z
UID:9111-1734863400-1734863400@www.kirche-wickrathberg.de
SUMMARY:Gottesdienst mit Diakonin Erke - Kirche  Wickrathberg
DESCRIPTION:Gottesdienst\n
URL:https://www.kirche-wickrathberg.de/event/gottesdienst-mit-diakonin-erke-kirche-wickrathberg-10-2022-09-04-2023-02-05-2024-06-02/2024-12-22/
LOCATION:Kirche Wickrathberg\, Wickrathberg
CATEGORIES:Allgemein,Gottesdienste
END:VEVENT
END:VCALENDAR