BEGIN:VCALENDAR
VERSION:2.0
PRODID:-//Ev. Kirchengemeinde Wickrathberg - ECPv4.9.13//NONSGML v1.0//EN
CALSCALE:GREGORIAN
METHOD:PUBLISH
X-WR-CALNAME:Ev. Kirchengemeinde Wickrathberg
X-ORIGINAL-URL:https://www.kirche-wickrathberg.de
X-WR-CALDESC:Veranstaltungen im Ev. Kirchengemeinde Wickrathberg
BEGIN:VTIMEZONE
TZID:Europe/Berlin
BEGIN:DAYLIGHT
TZOFFSETFROM:+0100
TZOFFSETTO:+0200
TZNAME:CEST
DTSTART:20200329T010000
END:DAYLIGHT
BEGIN:STANDARD
TZOFFSETFROM:+0200
TZOFFSETTO:+0100
TZNAME:CET
DTSTART:20201025T010000
END:STANDARD
END:VTIMEZONE
BEGIN:VEVENT
DTSTART;TZID=Europe/Berlin:20200326T150000
DTEND;TZID=Europe/Berlin:20200326T170000
DTSTAMP:20260419T164405
CREATED:20200304T145116Z
LAST-MODIFIED:20200427T064417Z
UID:4103-1585234800-1585242000@www.kirche-wickrathberg.de
SUMMARY:Frauenhilfe - Wickrath
DESCRIPTION:Auch im Alter kann Sport auf einem Stuhl Spaß machen!!\n(Frau Herbertz) \nAusgefallen wegen Corona \n
URL:https://www.kirche-wickrathberg.de/event/frauenhilfe-wickrath-4/
LOCATION:Gemeindezentrum Wickrath\, Denhardstraße 21\, Mönchengladbach\, 41189
CATEGORIES:Allgemein,Gemeindegruppen
END:VEVENT
END:VCALENDAR