BEGIN:VCALENDAR
VERSION:2.0
PRODID:-//Ev. Kirchengemeinde Wickrathberg - ECPv4.9.13//NONSGML v1.0//EN
CALSCALE:GREGORIAN
METHOD:PUBLISH
X-WR-CALNAME:Ev. Kirchengemeinde Wickrathberg
X-ORIGINAL-URL:https://www.kirche-wickrathberg.de
X-WR-CALDESC:Veranstaltungen im Ev. Kirchengemeinde Wickrathberg
BEGIN:VTIMEZONE
TZID:Europe/Berlin
BEGIN:DAYLIGHT
TZOFFSETFROM:+0100
TZOFFSETTO:+0200
TZNAME:CEST
DTSTART:20240331T010000
END:DAYLIGHT
BEGIN:STANDARD
TZOFFSETFROM:+0200
TZOFFSETTO:+0100
TZNAME:CET
DTSTART:20241027T010000
END:STANDARD
END:VTIMEZONE
BEGIN:VEVENT
DTSTART;TZID=Europe/Berlin:20240614T183000
DTEND;TZID=Europe/Berlin:20240614T183000
DTSTAMP:20260422T003029
CREATED:20220228T091031Z
LAST-MODIFIED:20220228T091031Z
UID:8849-1718389800-1718389800@www.kirche-wickrathberg.de
SUMMARY:Evensong-Musikalischer Abendgottesdienst mit Pfarrerin Gommel-Packbier - Kirche Wickrathberg
DESCRIPTION:Evensong-Musikalischer Abendgottesdienst\nLiturgie: Pfarrerin Esther Gommel-Packbier\nMusikalische Gestaltung: Kantor Jens Ebmeyer \n
URL:https://www.kirche-wickrathberg.de/event/evensong-musikalischer-abendgottesdienst-mit-pfarrerin-gommel-packbier-kirche-wickrathberg-2-2022-12-02/2024-06-14/
LOCATION:Kirche und Gemeindehaus Wickrathberg\, Berger Dorfstraße 55\, Mönchengladbach\, 41189
CATEGORIES:Allgemein,Gottesdienste
END:VEVENT
END:VCALENDAR