BEGIN:VCALENDAR
VERSION:2.0
PRODID:-//Ev. Kirchengemeinde Wickrathberg - ECPv4.9.13//NONSGML v1.0//EN
CALSCALE:GREGORIAN
METHOD:PUBLISH
X-WR-CALNAME:Ev. Kirchengemeinde Wickrathberg
X-ORIGINAL-URL:https://www.kirche-wickrathberg.de
X-WR-CALDESC:Veranstaltungen im Ev. Kirchengemeinde Wickrathberg
BEGIN:VTIMEZONE
TZID:Europe/Berlin
BEGIN:DAYLIGHT
TZOFFSETFROM:+0100
TZOFFSETTO:+0200
TZNAME:CEST
DTSTART:20250330T010000
END:DAYLIGHT
BEGIN:STANDARD
TZOFFSETFROM:+0200
TZOFFSETTO:+0100
TZNAME:CET
DTSTART:20251026T010000
END:STANDARD
END:VTIMEZONE
BEGIN:VEVENT
DTSTART;TZID=Europe/Berlin:20251026T170000
DTEND;TZID=Europe/Berlin:20251026T170000
DTSTAMP:20260421T214637
CREATED:20250929T153622Z
LAST-MODIFIED:20250929T153622Z
UID:9750-1761498000-1761498000@www.kirche-wickrathberg.de
SUMMARY:Chorkonzert mit TonArt
DESCRIPTION: „Come\, let us sing!“ – Benefizkonzert mit TonArt\nZum 20jährigen Bestehen des Fördervereins der Ev. Kirchengemeinde Wickrathberg\n \nHerzliche Einladung zu einem Chorkonzert mit TonArt und Instrumentalisten: Es erwartet Sie ein abwechslungsreiches und spannendes Programm mit Werken von Tore W. Aas\, Danny Plett\, John Rutter u.a.\nLeitung: Jens Ebmeyer\nDer Eintritt ist frei – um eine Spende wird gebeten.\n\n
URL:https://www.kirche-wickrathberg.de/event/chorkonzert-mit-tonart/
LOCATION:Kirche Wickrathberg\, Wickrathberg
CATEGORIES:Musik
END:VEVENT
END:VCALENDAR