BEGIN:VCALENDAR
VERSION:2.0
PRODID:-//Ev. Kirchengemeinde Wickrathberg - ECPv4.9.13//NONSGML v1.0//EN
CALSCALE:GREGORIAN
METHOD:PUBLISH
X-WR-CALNAME:Ev. Kirchengemeinde Wickrathberg
X-ORIGINAL-URL:https://www.kirche-wickrathberg.de
X-WR-CALDESC:Veranstaltungen im Ev. Kirchengemeinde Wickrathberg
BEGIN:VTIMEZONE
TZID:Europe/Berlin
BEGIN:DAYLIGHT
TZOFFSETFROM:+0100
TZOFFSETTO:+0200
TZNAME:CEST
DTSTART:20190331T010000
END:DAYLIGHT
BEGIN:STANDARD
TZOFFSETFROM:+0200
TZOFFSETTO:+0100
TZNAME:CET
DTSTART:20191027T010000
END:STANDARD
END:VTIMEZONE
BEGIN:VEVENT
DTSTART;VALUE=DATE:20190317
DTEND;VALUE=DATE:20190318
DTSTAMP:20260419T150121
CREATED:20190222T105745Z
LAST-MODIFIED:20190502T074140Z
UID:2042-1552780800-1552867199@www.kirche-wickrathberg.de
SUMMARY:22. Trödelmarkt in Wickrathberg
DESCRIPTION:Wir sehen uns am 17. März!\nTrödel jeder Art kann gerne abgegeben werden: ab Dienstag\, den 12. März bis Freitag\, den 15. März im Gemeindehaus Wickrathberg.\nOrganisation: Peter Neuß Tel.: 021 66 / 5 80 76; Jürgen Neugebauer Tel.: 021 66 / 5 14 87\nKuchen- und Salatspenden sind uns eine ganz große Hilfe! \n15:00 Uhr: Offenes Singen mit verschiedenen Chören in der Kirche. \n
URL:https://www.kirche-wickrathberg.de/event/22-troedelmarkt-in-wickrathberg/
LOCATION:Gemeindehaus Wickrathberg\, Am Pastorat\, Mönchengladbach\, 41189\, Deutschland
CATEGORIES:Allgemein
END:VEVENT
END:VCALENDAR